BEGIN:VCALENDAR
VERSION:2.0
METHOD:PUBLISH
PRODID::-//Obvius//NONSGML ICal//DA
BEGIN:VEVENT
UID:4434374@cbmr.ku.dk
DESCRIPTION:Metabolism Day brings together researchers within the field of
  metabolism to discuss the latest science in metabolic diseases and energy
  control. \n\nhttps://cbmr.ku.dk/calendar/2023/metabolism-day-2023/
SUMMARY:Metabolism Day 2023
CATEGORIES:Konference
LOCATION:Jerne Auditorium\, Floor 1\, Maersk Tower
ORGANIZER:mailto:Novo Nordisk Foundation for Basic Metabolic Research: cbm
 r@sund.ku.dk.
DTSTART:20230314T073000Z
DTSTAMP:20230314T073000Z
DTEND:20230314T161500Z
END:VEVENT
BEGIN:VEVENT
UID:5030233@cbmr.ku.dk
DESCRIPTION: Hepatic Crown-like Structures - Cellular Composition and Com
 munication via Auto- and Paracrine Metabolite Sensing and Signaling\n\nhtt
 ps://healthsciences.ku.dk/phd/calendar/q2---2026/phd-defence-elizabeth-lau
 ra-lansbury/
SUMMARY:PhD defence: Elizabeth Laura Lansbury
CATEGORIES:Ph.d.-forsvar
LOCATION:Hybrid defence
DTSTART:20260424T073000Z
DTSTAMP:20260424T073000Z
DTEND:20260424T103000Z
END:VEVENT
END:VCALENDAR
